BEGIN:VCALENDAR
VERSION:2.0
PRODID:-//Bø Prestegard - ECPv6.15.20//NONSGML v1.0//EN
CALSCALE:GREGORIAN
METHOD:PUBLISH
X-ORIGINAL-URL:https://boprestegard.no/wp
X-WR-CALDESC:Arrangement for Bø Prestegard
REFRESH-INTERVAL;VALUE=DURATION:PT1H
X-Robots-Tag:noindex
X-PUBLISHED-TTL:PT1H
BEGIN:VTIMEZONE
TZID:Europe/Oslo
BEGIN:DAYLIGHT
TZOFFSETFROM:+0100
TZOFFSETTO:+0200
TZNAME:CEST
DTSTART:20250330T010000
END:DAYLIGHT
BEGIN:STANDARD
TZOFFSETFROM:+0200
TZOFFSETTO:+0100
TZNAME:CET
DTSTART:20251026T010000
END:STANDARD
BEGIN:DAYLIGHT
TZOFFSETFROM:+0100
TZOFFSETTO:+0200
TZNAME:CEST
DTSTART:20260329T010000
END:DAYLIGHT
BEGIN:STANDARD
TZOFFSETFROM:+0200
TZOFFSETTO:+0100
TZNAME:CET
DTSTART:20261025T010000
END:STANDARD
BEGIN:DAYLIGHT
TZOFFSETFROM:+0100
TZOFFSETTO:+0200
TZNAME:CEST
DTSTART:20270328T010000
END:DAYLIGHT
BEGIN:STANDARD
TZOFFSETFROM:+0200
TZOFFSETTO:+0100
TZNAME:CET
DTSTART:20271031T010000
END:STANDARD
END:VTIMEZONE
BEGIN:VEVENT
DTSTART;TZID=Europe/Oslo:20260318T190000
DTEND;TZID=Europe/Oslo:20260318T210000
DTSTAMP:20260425T163132
CREATED:20260303T113435Z
LAST-MODIFIED:20260303T113444Z
UID:1190-1773860400-1773867600@boprestegard.no
SUMMARY:Årsmøte i Vennelaget for Bø prestegard
DESCRIPTION:På årsmøtet skal følgjande saker behandlast:Sak 1: Godkjenning av innkalling og sakliste.Sak 2: Val av møteleiar og referent.Sak 3: Val av to til å skrive under protokollen.Sak 4: Årsmelding.Sak 5: Revidert rekneskap.Sak 7: Budsjett.Sak 8: ValSak 9: Vi behandlar forslag som har kome inn.Etter årsmøtesakene blir det servering.
URL:https://boprestegard.no/wp/event/arsmote-i-vennelaget-for-bo-prestegard/
LOCATION:Bø Prestegard\, Prestevegen 4\, Bø i Telemark\, 3802\, Norway
END:VEVENT
BEGIN:VEVENT
DTSTART;TZID=Europe/Oslo:20260325T190000
DTEND;TZID=Europe/Oslo:20260325T210000
DTSTAMP:20260425T163132
CREATED:20260321T205200Z
LAST-MODIFIED:20260321T210649Z
UID:1195-1774465200-1774472400@boprestegard.no
SUMMARY:Påsketradisjoner og folkeminne
DESCRIPTION:Førsteamanuensis Herleik Baklid forteller om påsketradisjoner og folkeminne. \n\n\n\nInngang: 150 kr. \n\n\n\nKaffe og kaker serveres
URL:https://boprestegard.no/wp/event/pasketradisjoner-og-folkeminne/
LOCATION:Bø Prestegard\, Prestevegen 4\, Bø i Telemark\, 3802\, Norway
END:VEVENT
END:VCALENDAR