BEGIN:VCALENDAR
VERSION:2.0
PRODID:-//Bø Prestegard - ECPv6.15.20//NONSGML v1.0//EN
CALSCALE:GREGORIAN
METHOD:PUBLISH
X-ORIGINAL-URL:https://boprestegard.no/wp
X-WR-CALDESC:Arrangement for Bø Prestegard
REFRESH-INTERVAL;VALUE=DURATION:PT1H
X-Robots-Tag:noindex
X-PUBLISHED-TTL:PT1H
BEGIN:VTIMEZONE
TZID:Europe/Oslo
BEGIN:DAYLIGHT
TZOFFSETFROM:+0100
TZOFFSETTO:+0200
TZNAME:CEST
DTSTART:20240331T010000
END:DAYLIGHT
BEGIN:STANDARD
TZOFFSETFROM:+0200
TZOFFSETTO:+0100
TZNAME:CET
DTSTART:20241027T010000
END:STANDARD
BEGIN:DAYLIGHT
TZOFFSETFROM:+0100
TZOFFSETTO:+0200
TZNAME:CEST
DTSTART:20250330T010000
END:DAYLIGHT
BEGIN:STANDARD
TZOFFSETFROM:+0200
TZOFFSETTO:+0100
TZNAME:CET
DTSTART:20251026T010000
END:STANDARD
BEGIN:DAYLIGHT
TZOFFSETFROM:+0100
TZOFFSETTO:+0200
TZNAME:CEST
DTSTART:20260329T010000
END:DAYLIGHT
BEGIN:STANDARD
TZOFFSETFROM:+0200
TZOFFSETTO:+0100
TZNAME:CET
DTSTART:20261025T010000
END:STANDARD
END:VTIMEZONE
BEGIN:VEVENT
DTSTART;TZID=Europe/Oslo:20251202T190000
DTEND;TZID=Europe/Oslo:20251202T210000
DTSTAMP:20260425T212838
CREATED:20250909T122921Z
LAST-MODIFIED:20251201T164204Z
UID:1084-1764702000-1764709200@boprestegard.no
SUMMARY:Adventssang
DESCRIPTION:Me syng advent og julesalmer. \n\n\n\nKom og syng saman med organist Øyvind Sundsvalen. \n\n\n\nKaffe og kaker. \n\n\n\nInngang kr 150\,-
URL:https://boprestegard.no/wp/event/adventssang/
LOCATION:Bø Prestegard\, Prestevegen 4\, Bø i Telemark\, 3802\, Norway
END:VEVENT
END:VCALENDAR