BEGIN:VCALENDAR
VERSION:2.0
PRODID:-//Bø Prestegard - ECPv6.15.20//NONSGML v1.0//EN
CALSCALE:GREGORIAN
METHOD:PUBLISH
X-ORIGINAL-URL:https://boprestegard.no/wp
X-WR-CALDESC:Arrangement for Bø Prestegard
REFRESH-INTERVAL;VALUE=DURATION:PT1H
X-Robots-Tag:noindex
X-PUBLISHED-TTL:PT1H
BEGIN:VTIMEZONE
TZID:Europe/Oslo
BEGIN:DAYLIGHT
TZOFFSETFROM:+0100
TZOFFSETTO:+0200
TZNAME:CEST
DTSTART:20250330T010000
END:DAYLIGHT
BEGIN:STANDARD
TZOFFSETFROM:+0200
TZOFFSETTO:+0100
TZNAME:CET
DTSTART:20251026T010000
END:STANDARD
BEGIN:DAYLIGHT
TZOFFSETFROM:+0100
TZOFFSETTO:+0200
TZNAME:CEST
DTSTART:20260329T010000
END:DAYLIGHT
BEGIN:STANDARD
TZOFFSETFROM:+0200
TZOFFSETTO:+0100
TZNAME:CET
DTSTART:20261025T010000
END:STANDARD
BEGIN:DAYLIGHT
TZOFFSETFROM:+0100
TZOFFSETTO:+0200
TZNAME:CEST
DTSTART:20270328T010000
END:DAYLIGHT
BEGIN:STANDARD
TZOFFSETFROM:+0200
TZOFFSETTO:+0100
TZNAME:CET
DTSTART:20271031T010000
END:STANDARD
END:VTIMEZONE
BEGIN:VEVENT
DTSTART;TZID=Europe/Oslo:20260512T190000
DTEND;TZID=Europe/Oslo:20260512T210000
DTSTAMP:20260425T163045
CREATED:20260425T070745Z
LAST-MODIFIED:20260425T071857Z
UID:1219-1778612400-1778619600@boprestegard.no
SUMMARY:Allsang i vårkvelden
DESCRIPTION:Tradisjonen tro blir det allsang i Prestegarden. Denne sangglade gjengen byr på et allsidig program med sanger og musikk knytta til våren. Som alltid blir det mye allsang og garantert god stemning når Anne Theie\, Ingunn Flatland\, Per Hermansen\, Erling Eriksen og Torgeir Hefre leder an.  \n\n\n\nDet serveres kaker og kaffe i pausen og inngangspenger kr. 150\,-  \n\n\n\nVelkommen til Prestegarden!
URL:https://boprestegard.no/wp/event/allsang-i-varkvelden/
LOCATION:Bø Prestegard\, Prestevegen 4\, Bø i Telemark\, 3802\, Norway
END:VEVENT
END:VCALENDAR